BEGIN:VCALENDAR
VERSION:2.0
PRODID:-//Golden Door Respite - ECPv6.15.20//NONSGML v1.0//EN
CALSCALE:GREGORIAN
METHOD:PUBLISH
X-WR-CALNAME:Golden Door Respite
X-ORIGINAL-URL:https://goldendoorsrespite.org
X-WR-CALDESC:Events for Golden Door Respite
REFRESH-INTERVAL;VALUE=DURATION:PT1H
X-Robots-Tag:noindex
X-PUBLISHED-TTL:PT1H
BEGIN:VTIMEZONE
TZID:America/New_York
BEGIN:DAYLIGHT
TZOFFSETFROM:-0500
TZOFFSETTO:-0400
TZNAME:EDT
DTSTART:20240310T070000
END:DAYLIGHT
BEGIN:STANDARD
TZOFFSETFROM:-0400
TZOFFSETTO:-0500
TZNAME:EST
DTSTART:20241103T060000
END:STANDARD
BEGIN:DAYLIGHT
TZOFFSETFROM:-0500
TZOFFSETTO:-0400
TZNAME:EDT
DTSTART:20250309T070000
END:DAYLIGHT
BEGIN:STANDARD
TZOFFSETFROM:-0400
TZOFFSETTO:-0500
TZNAME:EST
DTSTART:20251102T060000
END:STANDARD
BEGIN:DAYLIGHT
TZOFFSETFROM:-0500
TZOFFSETTO:-0400
TZNAME:EDT
DTSTART:20260308T070000
END:DAYLIGHT
BEGIN:STANDARD
TZOFFSETFROM:-0400
TZOFFSETTO:-0500
TZNAME:EST
DTSTART:20261101T060000
END:STANDARD
END:VTIMEZONE
BEGIN:VEVENT
DTSTART;TZID=America/New_York:20250122T080000
DTEND;TZID=America/New_York:20250122T170000
DTSTAMP:20260423T123313
CREATED:20250114T063528Z
LAST-MODIFIED:20250114T084554Z
UID:959-1737532800-1737565200@goldendoorsrespite.org
SUMMARY:Test Event
DESCRIPTION:Come to This Test event!
URL:https://goldendoorsrespite.org/event/test-event/
LOCATION:Calendar Page\, United States
CATEGORIES:Test Events
ATTACH;FMTTYPE=image/jpeg:https://goldendoorsrespite.org/wp-content/uploads/2022/07/pexels-rodnae-productions-6647017.jpg
ORGANIZER;CN="Derric Wynn":MAILTO:Info@rebootItsolutions.com
END:VEVENT
BEGIN:VEVENT
DTSTART;VALUE=DATE:20250116
DTEND;VALUE=DATE:20250117
DTSTAMP:20260423T123313
CREATED:20250114T084434Z
LAST-MODIFIED:20250114T084453Z
UID:966-1736985600-1737071999@goldendoorsrespite.org
SUMMARY:Test Event 2
DESCRIPTION:Test Event 2
URL:https://goldendoorsrespite.org/event/test-event-2/
LOCATION:Iverson Mall\, Maryland\, MD\, 20743\, United States
CATEGORIES:Test Events
ATTACH;FMTTYPE=image/jpeg:https://goldendoorsrespite.org/wp-content/uploads/2022/08/ladiesdeal.jpg
ORGANIZER;CN="Derric Wynn":MAILTO:Info@rebootItsolutions.com
END:VEVENT
END:VCALENDAR